Workbook
Name Query: #REF!
Name Query: #REF!

Sheet XLS
A1: INSZcode | B1: niet-Belgcode | C1: Opleidingsfase | D1: School | E1: Lastname | F1: Firstname | G1: E-mail | H1: GSM privé | I1: naam begeleider | J1: Employ | K1: Out | L1: Dcode | M1: Dienst omschrijving | N1: Departement | O1: Stageverantw account | P1: Stageverantw email | Q1: Soort stage | R1: Funcname1 | S1: Birth | T1: Geboorteplaats | U1: Adres | V1: Nr | W1: Busnr | X1: Postcode | Y1: Gemeente | Z1: aantal te presteren uren/dag | AA1: opmerkingen
D2: UCLL | M2: =VLOOKUP(L2,keuzes!$I$2:$K$112,2,FALSE) -> #N/A | N2: =VLOOKUP(L2,keuzes!$I$2:$K$112,3,FALSE) -> #N/A | O2: =VLOOKUP(L2,keuzes!$I$2:$L$112,4,FALSE) -> #N/A | P2: =VLOOKUP(L2,keuzes!$I$2:$M$112,5,FALSE) -> #N/A | Q2: Stagiair(e) verpleegkundig | R2: Stagiair(e) verpleegkunde Bachelor
D3: UCLL | M3: =VLOOKUP(L3,keuzes!$I$2:$K$112,2,FALSE) -> #N/A | N3: =VLOOKUP(L3,keuzes!$I$2:$K$112,3,FALSE) -> #N/A | O3: =VLOOKUP(L3,keuzes!$I$2:$L$112,4,FALSE) -> #N/A | P3: =VLOOKUP(L3,keuzes!$I$2:$M$112,5,FALSE) -> #N/A | Q3: Stagiair(e) verpleegkundig | R3: Stagiair(e) verpleegkunde Bachelor
D4: UCLL | M4: =VLOOKUP(L4,keuzes!$I$2:$K$112,2,FALSE) -> #N/A | N4: =VLOOKUP(L4,keuzes!$I$2:$K$112,3,FALSE) -> #N/A | O4: =VLOOKUP(L4,keuzes!$I$2:$L$112,4,FALSE) -> #N/A | P4: =VLOOKUP(L4,keuzes!$I$2:$M$112,5,FALSE) -> #N/A | Q4: Stagiair(e) verpleegkundig | R4: Stagiair(e) verpleegkunde Bachelor
D5: UCLL | M5: =VLOOKUP(L5,keuzes!$I$2:$K$112,2,FALSE) -> #N/A | N5: =VLOOKUP(L5,keuzes!$I$2:$K$112,3,FALSE) -> #N/A | O5: =VLOOKUP(L5,keuzes!$I$2:$L$112,4,FALSE) -> #N/A | P5: =VLOOKUP(L5,keuzes!$I$2:$M$112,5,FALSE) -> #N/A | Q5: Stagiair(e) verpleegkundig | R5: Stagiair(e) verpleegkunde Bachelor
D6: UCLL | M6: =VLOOKUP(L6,keuzes!$I$2:$K$112,2,FALSE) -> #N/A | N6: =VLOOKUP(L6,keuzes!$I$2:$K$112,3,FALSE) -> #N/A | O6: =VLOOKUP(L6,keuzes!$I$2:$L$112,4,FALSE) -> #N/A | P6: =VLOOKUP(L6,keuzes!$I$2:$M$112,5,FALSE) -> #N/A | Q6: Stagiair(e) verpleegkundig | R6: Stagiair(e) verpleegkunde Bachelor
D7: UCLL | M7: =VLOOKUP(L7,keuzes!$I$2:$K$112,2,FALSE) -> #N/A | N7: =VLOOKUP(L7,keuzes!$I$2:$K$112,3,FALSE) -> #N/A | O7: =VLOOKUP(L7,keuzes!$I$2:$L$112,4,FALSE) -> #N/A | P7: =VLOOKUP(L7,keuzes!$I$2:$M$112,5,FALSE) -> #N/A | Q7: Stagiair(e) verpleegkundig | R7: Stagiair(e) verpleegkunde Bachelor
D8: UCLL | M8: =VLOOKUP(L8,keuzes!$I$2:$K$112,2,FALSE) -> #N/A | N8: =VLOOKUP(L8,keuzes!$I$2:$K$112,3,FALSE) -> #N/A | O8: =VLOOKUP(L8,keuzes!$I$2:$L$112,4,FALSE) -> #N/A | P8: =VLOOKUP(L8,keuzes!$I$2:$M$112,5,FALSE) -> #N/A | Q8: Stagiair(e) verpleegkundig | R8: Stagiair(e) verpleegkunde Bachelor
D9: UCLL | M9: =VLOOKUP(L9,keuzes!$I$2:$K$112,2,FALSE) -> #N/A | N9: =VLOOKUP(L9,keuzes!$I$2:$K$112,3,FALSE) -> #N/A | O9: =VLOOKUP(L9,keuzes!$I$2:$L$112,4,FALSE) -> #N/A | P9: =VLOOKUP(L9,keuzes!$I$2:$M$112,5,FALSE) -> #N/A | Q9: Stagiair(e) verpleegkundig | R9: Stagiair(e) verpleegkunde Bachelor
D10: UCLL | M10: =VLOOKUP(L10,keuzes!$I$2:$K$112,2,FALSE) -> #N/A | N10: =VLOOKUP(L10,keuzes!$I$2:$K$112,3,FALSE) -> #N/A | O10: =VLOOKUP(L10,keuzes!$I$2:$L$112,4,FALSE) -> #N/A | P10: =VLOOKUP(L10,keuzes!$I$2:$M$112,5,FALSE) -> #N/A | Q10: Stagiair(e) verpleegkundig | R10: Stagiair(e) verpleegkunde Bachelor
D11: UCLL | M11: =VLOOKUP(L11,keuzes!$I$2:$K$112,2,FALSE) -> #N/A | N11: =VLOOKUP(L11,keuzes!$I$2:$K$112,3,FALSE) -> #N/A | O11: =VLOOKUP(L11,keuzes!$I$2:$L$112,4,FALSE) -> #N/A | P11: =VLOOKUP(L11,keuzes!$I$2:$M$112,5,FALSE) -> #N/A | Q11: Stagiair(e) verpleegkundig | R11: Stagiair(e) verpleegkunde Bachelor
D12: UCLL | M12: =VLOOKUP(L12,keuzes!$I$2:$K$112,2,FALSE) -> #N/A | N12: =VLOOKUP(L12,keuzes!$I$2:$K$112,3,FALSE) -> #N/A | O12: =VLOOKUP(L12,keuzes!$I$2:$L$112,4,FALSE) -> #N/A | P12: =VLOOKUP(L12,keuzes!$I$2:$M$112,5,FALSE) -> #N/A | Q12: Stagiair(e) verpleegkundig | R12: Stagiair(e) verpleegkunde Bachelor
D13: UCLL | M13: =VLOOKUP(L13,keuzes!$I$2:$K$112,2,FALSE) -> #N/A | N13: =VLOOKUP(L13,keuzes!$I$2:$K$112,3,FALSE) -> #N/A | O13: =VLOOKUP(L13,keuzes!$I$2:$L$112,4,FALSE) -> #N/A | P13: =VLOOKUP(L13,keuzes!$I$2:$M$112,5,FALSE) -> #N/A | Q13: Stagiair(e) verpleegkundig | R13: Stagiair(e) verpleegkunde Bachelor
... D200: UCLL | M200: =VLOOKUP(L200,keuzes!$I$2:$K$112,2,FALSE) -> #N/A | N200: =VLOOKUP(L200,keuzes!$I$2:$K$112,3,FALSE) -> #N/A | O200: =VLOOKUP(L200,keuzes!$I$2:$L$112,4,FALSE) -> #N/A | P200: =VLOOKUP(L200,keuzes!$I$2:$M$112,5,FALSE) -> #N/A | Q200: Stagiair(e) verpleegkundig | R200: Stagiair(e) verpleegkunde Bachelor

Sheet keuzes
A1: Soort stage | B1: Functienaam | C1: School | D1: Leerjaar | I1: Dienstcode | J1: Dienstomschrijving | K1: Departement | L1: Stageverantw account | M1: Stageverantw email
A2: Stagiair(e) verpleegkundig | B2: Stagiair(e) verpleegkunde Bachelor | C2: Artevelde Hogeschool | D2: 1ste OF | I2: GA30 | J2: GA30 | K2: 3 | L2: anita.vanbaelen | M2: anita.vanbaelen@zol.be
A3: Stagiair(e) vroedkunde | B3: Stagiair(e) verpleegkunde HBO | C3: Atlas College | D3: 2de OF | I3: GA35 | J3: GA35 | K3: 3 | L3: angelique.erlich | M3: angelique.erlich@zol.be
A4: Stagiair(e) andere zorg | B4: Stagiair(e) verpleegkunde Master | C4: Belgisch leger | D4: 3de OF | I4: GB20 | J4: GB20 | K4: 4 | L4: mieke.vlassak | M4: mieke.vlassak@zol.be
A5: Stagiair(e) paramedicus | B5: Stagiair(e) Banaba zorg | C5: Cursa / CTT Genk | D5: 4de OF | I5: GB25 | J5: GB25 | K5: 4 | L5: sanne.buvens | M5: sanne.buvens@zol.be
A6: Kijkstage zorg | B6: Stagiair(e) Post-graduaat zorg | C6: Don Bosco | D6: IT-traject | I6: GB30 | J6: GB30 | K6: 4 | L6: joris.clerix | M6: joris.clerix@zol.be
A7: Stage arts in opleiding | B7: Stagiair(e) verpleegkunde ziekenhuishygiëne | C7: Fontys Hogeschool | D7: post graduaat | I7: GB35 | J7: GB35 | K7: 4 | L7: patrick.dobbels | M7: patrick.dobbels@zol.be
A8: Stage specialist-arts in opleiding | B8: Stagiair(e) vroedkunde | C8: HAST | D8: VPK na VK 1ste OF | I8: GC20 | J8: GC20 | K8: 2 | L8: nicole.engelen | M8: nicole.engelen@zol.be
A9: Stage arts-specialist in verdere opleiding | B9: Stagiair(e) verpleegstage geneeskunde | C9: HBO Verpleegkunde Genk | D9: VPK na VK 2de OF | I9: GC25 | J9: GC25 | K9: 2 | L9: katrien.bijnens | M9: katrien.bijnens@zol.be
A10: Stage huistarts in opleiding | B10: Stagiair(e) kinesitherapie | C10: HIGW | D10: brugopleiding 1 | I10: GCL | J10: Hartcatheterisatie | K10: 2 | L10: hildegard.stremersch | M10: hildegard.stremersch@zol.be
A11: Stagiair(e) niet zorg | B11: Stagiair(e) ergotherapie | C11: HO Gent | D11: brugopleiding 2 | I11: GCRE | J11: GCRE - CARDIALE REVALIDATIE | K11: VPD | L11: bart.tulleneers | M11: bart.tulleneers@zol.be
B12: Stagiair(e) logotherapie | C12: IFPC | D12: werkveldstage | I12: GD15 | J12: GD15 | K12: 2 | L12: hildegard.stremersch | M12: hildegard.stremersch@zol.be
B13: Stagiair(e) psychologie | C13: In-Z | I13: GD20 | J13: GD20 | K13: 2 | L13: yamina.kherouach | M13: yamina.kherouach@zol.be
B14: Stagiair(e) audiologie | C14: Karel de Grote Hogeschool | I14: GD25 | J14: GD25 | K14: 2 | L14: eline.moors | M14: eline.moors@zol.be
B15: Stagiair(e) diëtiek | C15: KUL | I15: GDAE | J15: GDAE - DAGZIEKENHUIS ENDOSCOPIE | K15: 3 | L15: hagar.tanane | M15: hagar.tanane@zol.be
B16: Stagiair(e) medisch laboratoriumtechnologie | C16: Mosa-RT | I16: GDEG | J16: GDEG - DAGKLINIEK ENDOCRINOLOGIE EN GERIATRIE | K16: 5 | L16: hellen.goossens | M16: hellen.goossens@zol.be
B17: Stagiair(e) mondhygiënist | C17: Odisee | I17: GDH1 | J17: GDH1 - DAGZIEKENHUIS HEELKUNDE 1 | K17: 6 | L17: lesley.surinx | M17: lesley.surinx@zol.be
B18: Stagiair(e) technoloog medische beeldvorming | C18: OLV Lyceum | I18: GDIC | J18: GDIC - DAGZIEKENHUIS INTERVENTIECENTRUM | K18: 2 | L18: hildegard.stremersch | M18: hildegard.stremersch@zol.be
B19: Stagiair(e) zorg tandheelkunde | C19: PIVH | I19: GDK1 | J19: GDK1 - DAGZIEKENHUIS ONCOLOGIE | K19: 3 | L19: Heidi.Oris | M19: Heidi.Oris@zol.be
B20: Stagiair(e) zorg tandartsassistent | C20: PLOT | I20: GDPN | J20: GDPN - DAGZIEKENHUIS PNEUMOLOGIE | K20: 2 | L20: sonja.vranken | M20: Sonja.Vranken@zol.be
B21: Stagiair(e) zorg logistiek assistent | C21: PXL | I21: GEHF | J21: GEHF - ECHO HARTFALEN | K21: 2 | L21: joke.grosemans | M21: Joke.grosemans@zol.be
B22: Stagiair(e) pastorale dienst | C22: Qrios | I22: GEHFK | J22: GEHFK - ECHO HARTFALEN - K-BLOK | K22: 2 | L22: joke.grosemans | M22: Joke.grosemans@zol.be
B23: Stagiair(e) ambulancier | C23: Sint Augustinus | I23: GEND | J23: GEND - ENDOSCOPIE | K23: 3 | L23: hagar.tanane | M23: hagar.tanane@zol.be
B24: Stagiair(e) zorgkundige | C24: Thomas More | I24: GEVE | J24: GEVE - ECHO GYNAECOLOGIE | K24: 1 | L24: ruth.fincken | M24: ruth.fincken@zol.be
... B27: Stagiair(e) schoonheidsspecialiste / haartooi (IFPC) | C27: VIVES | I27: GHB | J27: GHB - HARTBEWAKING LOKAAL 1 | K27: 2 | L27: jorien.stassen | M27: jorien.stassen@zol.be
B28: Stage arts in opleiding (Stagiair(e)) | I28: GHEM | J28: GHEM - HEMO - MTA | K28: 2 | L28: Tine.Verheyden | M28: tine.Verheyden@zol.be
B29: Stage arts-specialist in verdere opleiding (ASVO) | I29: GHM | J29: GHM - HEMO - VERBLIJF | K29: 2 | L29: Tine.Verheyden | M29: Tine.Verheyden@zol.be
B30: Stage huisarts in opleiding (HAIO) | I30: GICC | J30: GICC - INTERVENTIECENTRUM CARDIO, MBV & THORACO | K30: 2 | L30: hildegard.stremersch | M30: hildegard.stremersch@zol.be
I31: GICE | J31: GICE - INTERVENTIECENTRUM OP ELECTROFYSIOLOGIE | K31: 2 | L31: hildegard.stremersch | M31: hildegard.stremersch@zol.be
I32: GICL | J32: GICL - INTERVENTIECENTRUM CATLAB | K32: 2 | L32: hildegard.stremersch | M32: hildegard.stremersch@zol.be
I33: GICM | J33: GICM - INTERVENTIECENTRUM MBV | K33: 7 | L33: hildegard.stremersch | M33: hildegard.stremersch@zol.be
I34: GICR | J34: GICR - INTERVENTIECENTRUM RECOVERY - SAS - ANAESTHESIE | K34: 2 | L34: hildegard.stremersch | M34: hildegard.stremersch@zol.be
I35: GICV | J35: GICV - INTERVENTIECENTRUM OP VAATHEELKUNDE | K35: 2 | L35: hildegard.stremersch | M35: hildegard.stremersch@zol.be
I36: GIZ1 | J36: GIZ1 - INTENSIEVE ZORGEN 1 | K36: 6 | L36: joris.daems | M36: joris.daems@zol.be
I37: GIZ2 | J37: GIZ2 - INTENSIEVE ZORGEN 2 | K37: 6 | L37: joris.daems | M37: joris.daems@zol.be
I38: GIZC | J38: GIZC - Intensieve zorgen Corona | K38: 6 | L38: joris.daems | M38: joris.daems@zol.be
I39: GK25 | J39: GK25 | K39: 5 | L39: dorien.viaene | M39: dorien.viaene@zol.be
I40: GK30 | J40: GK30 | K40: 5 | L40: Kristy.Marcisz | M40: Kristy.Marcisz@zol.be
I41: GK35 | J41: GK35 | K41: 5 | L41: deborah.vanaken | M41: deborah.vanaken@zol.be
I42: GK40 | J42: GK40 | K42: 5 | L42: marcel.jongkind | M42: marcel.jongkind@zol.be
... I54: GOP | J54: OPERATIEKWARTIER | K54: 6 | L54: ellen.fouwe | M54: ellen.fouwe@zol.be
I55: GOPI | J55: OP-lokale ingrepen-kabinetchirurgie | K55: 6 | L55: kim.klingels | M55: kim.klingels@zol.be
I56: GPAC | J56: GPAC - RECOVERYBEDDEN OPERATIEKWARTIER | K56: 6 | L56: danny.baens | M56: Danny.Baens@zol.be
I57: GPAL | J57: GPAL - PALLIATIEVE ZORGEN | K57: 5 | L57: pierrot.smets | M57: Pierrot.Smets@ZOL.BE
I58: GPAT | J58: GPAT - PATIENTENBEGELEIDING | K58: VPD | L58: patricia.vrancken | M58: patricia.vrancken@zol.be
I59: GPED | J59: GPED - PEDIATRIE | K59: 1 | L59: inge.vangompel | M59: inge.vangompel@zol.be
I60: GPSD | J60: GPSD - PSYCHIATRIE DAGKLINIEK | K60: 5 | L60: silvia.vankerkom | M60: Silvia.Vankerkom@zol.be
I61: GPSE | J61: GPSE - PSYCHIATRIE PARAMEDICI | K61: VPD | L61: Anneleen.Reyskens | M61: Anneleen.reyskens@zol.be
I62: GPSH | J62: GPSH - PSYCHIATRIE HOSPITALISATIE | K62: 5 | L62: silvia.vankerkom | M62: Silvia.Vankerkom@zol.be
I63: GPST | J63: GPST - PALLIATIEF SUPPORT TEAM | K63: 5 | L63: pierrot.smets | M63: Pierrot.Smets@ZOL.BE
I64: GRD | J64: GRD - REVADIAB | K64: 5 | L64: an.voets | M64: An.Voets@zol.be
I65: GRDO | J65: GRDO - RevaDiab Obesitas (inzet vanuit GRD tvv obesitaskliniek) | K65: 5 | L65: an.voets | M65: An.Voets@zol.be
I66: GRDV | J66: GRDV - REVADIAB VOETVERZORGING | K66: 5 | L66: an.voets | M66: An.Voets@zol.be
I67: GRX | J67: GRX - RADIOLOGIE | K67: 7 | L67: freddy.boonen | M67: freddy.boonen@zol.be
... I112: WRX | J112: WRX - RADIOLOGIE | K112: 7 | L112: freddy.boonen | M112: freddy.boonen@zol.be

Sheet SpiegelingZOL
A1: INSZcode | B1: niet-Belgcode | C1: Lastname | D1: Firstname | E1: Dcode | F1: Dienst omschrijving | G1: Departement | H1: Stageverantw account | I1: Stageverantw email | J1: Birth | K1: Employ | L1: Out | M1: E-mail | N1: Soort stage | O1: Funcname1 | P1: School | Q1: Leerjaar | R1: Geboorteplaats | S1: Adres | T1: Nr | U1: Busnr | V1: Postcode | W1: Gemeente | X1: GSM privé | Y1: aantal te presteren uren/dag | Z1: naam begeleider | AA1: opmerkingen
A2: =XLS!A2 -> 0 | B2: =XLS!B2 -> 0 | C2: =XLS!E2 -> 0 | D2: =XLS!F2 -> 0 | E2: =XLS!L2 -> 0 | F2: =VLOOKUP(E2,keuzes!$I$2:$K$112,2,FALSE) -> #N/A | G2: =VLOOKUP(E2,keuzes!$I$2:$K$112,3,FALSE) -> #N/A | H2: =VLOOKUP(E2,keuzes!$I$2:$L$112,4,FALSE) -> #N/A | I2: =VLOOKUP(E2,keuzes!$I$2:$M$112,5,FALSE) -> #N/A | J2: =XLS!S2 -> 0 | K2: =XLS!J2 -> 0 | L2: =XLS!K2 -> 0 | M2: =XLS!G2 -> 0 | N2: Stagiair(e) verpleegkundig | O2: Stagiair(e) verpleegkunde Bachelor | P2: UCLL | Q2: =XLS!C2 -> 0 | R2: =XLS!T2 -> 0 | S2: =XLS!U2 -> 0 | T2: =XLS!V2 -> 0 | U2: =XLS!W2 -> 0 | V2: =XLS!X2 -> 0 | W2: =XLS!Y2 -> 0 | X2: =XLS!H2 -> 0 | Y2: =XLS!Z2 -> 0 | Z2: =XLS!I2 -> 0 | AA2: =XLS!AA2 -> 0
A3: =XLS!A3 -> 0 | B3: =XLS!B3 -> 0 | C3: =XLS!E3 -> 0 | D3: =XLS!F3 -> 0 | E3: =XLS!L3 -> 0 | F3: =VLOOKUP(E3,keuzes!$I$2:$K$112,2,FALSE) -> #N/A | G3: =VLOOKUP(E3,keuzes!$I$2:$K$112,3,FALSE) -> #N/A | H3: =VLOOKUP(E3,keuzes!$I$2:$L$112,4,FALSE) -> #N/A | I3: =VLOOKUP(E3,keuzes!$I$2:$M$112,5,FALSE) -> #N/A | J3: =XLS!S3 -> 0 | K3: =XLS!J3 -> 0 | L3: =XLS!K3 -> 0 | M3: =XLS!G3 -> 0 | N3: Stagiair(e) verpleegkundig | O3: Stagiair(e) verpleegkunde Bachelor | P3: UCLL | Q3: =XLS!C3 -> 0 | R3: =XLS!T3 -> 0 | S3: =XLS!U3 -> 0 | T3: =XLS!V3 -> 0 | U3: =XLS!W3 -> 0 | V3: =XLS!X3 -> 0 | W3: =XLS!Y3 -> 0 | X3: =XLS!H3 -> 0 | Y3: =XLS!Z3 -> 0 | Z3: =XLS!I3 -> 0 | AA3: =XLS!AA3 -> 0
A4: =XLS!A4 -> 0 | B4: =XLS!B4 -> 0 | C4: =XLS!E4 -> 0 | D4: =XLS!F4 -> 0 | E4: =XLS!L4 -> 0 | F4: =VLOOKUP(E4,keuzes!$I$2:$K$112,2,FALSE) -> #N/A | G4: =VLOOKUP(E4,keuzes!$I$2:$K$112,3,FALSE) -> #N/A | H4: =VLOOKUP(E4,keuzes!$I$2:$L$112,4,FALSE) -> #N/A | I4: =VLOOKUP(E4,keuzes!$I$2:$M$112,5,FALSE) -> #N/A | J4: =XLS!S4 -> 0 | K4: =XLS!J4 -> 0 | L4: =XLS!K4 -> 0 | M4: =XLS!G4 -> 0 | N4: Stagiair(e) verpleegkundig | O4: Stagiair(e) verpleegkunde Bachelor | P4: UCLL | Q4: =XLS!C4 -> 0 | R4: =XLS!T4 -> 0 | S4: =XLS!U4 -> 0 | T4: =XLS!V4 -> 0 | U4: =XLS!W4 -> 0 | V4: =XLS!X4 -> 0 | W4: =XLS!Y4 -> 0 | X4: =XLS!H4 -> 0 | Y4: =XLS!Z4 -> 0 | Z4: =XLS!I4 -> 0 | AA4: =XLS!AA4 -> 0
A5: =XLS!A5 -> 0 | B5: =XLS!B5 -> 0 | C5: =XLS!E5 -> 0 | D5: =XLS!F5 -> 0 | E5: =XLS!L5 -> 0 | F5: =VLOOKUP(E5,keuzes!$I$2:$K$112,2,FALSE) -> #N/A | G5: =VLOOKUP(E5,keuzes!$I$2:$K$112,3,FALSE) -> #N/A | H5: =VLOOKUP(E5,keuzes!$I$2:$L$112,4,FALSE) -> #N/A | I5: =VLOOKUP(E5,keuzes!$I$2:$M$112,5,FALSE) -> #N/A | J5: =XLS!S5 -> 0 | K5: =XLS!J5 -> 0 | L5: =XLS!K5 -> 0 | M5: =XLS!G5 -> 0 | N5: Stagiair(e) verpleegkundig | O5: Stagiair(e) verpleegkunde Bachelor | P5: UCLL | Q5: =XLS!C5 -> 0 | R5: =XLS!T5 -> 0 | S5: =XLS!U5 -> 0 | T5: =XLS!V5 -> 0 | U5: =XLS!W5 -> 0 | V5: =XLS!X5 -> 0 | W5: =XLS!Y5 -> 0 | X5: =XLS!H5 -> 0 | Y5: =XLS!Z5 -> 0 | Z5: =XLS!I5 -> 0 | AA5: =XLS!AA5 -> 0
A6: =XLS!A6 -> 0 | B6: =XLS!B6 -> 0 | C6: =XLS!E6 -> 0 | D6: =XLS!F6 -> 0 | E6: =XLS!L6 -> 0 | F6: =VLOOKUP(E6,keuzes!$I$2:$K$112,2,FALSE) -> #N/A | G6: =VLOOKUP(E6,keuzes!$I$2:$K$112,3,FALSE) -> #N/A | H6: =VLOOKUP(E6,keuzes!$I$2:$L$112,4,FALSE) -> #N/A | I6: =VLOOKUP(E6,keuzes!$I$2:$M$112,5,FALSE) -> #N/A | J6: =XLS!S6 -> 0 | K6: =XLS!J6 -> 0 | L6: =XLS!K6 -> 0 | M6: =XLS!G6 -> 0 | N6: Stagiair(e) verpleegkundig | O6: Stagiair(e) verpleegkunde Bachelor | P6: UCLL | Q6: =XLS!C6 -> 0 | R6: =XLS!T6 -> 0 | S6: =XLS!U6 -> 0 | T6: =XLS!V6 -> 0 | U6: =XLS!W6 -> 0 | V6: =XLS!X6 -> 0 | W6: =XLS!Y6 -> 0 | X6: =XLS!H6 -> 0 | Y6: =XLS!Z6 -> 0 | Z6: =XLS!I6 -> 0 | AA6: =XLS!AA6 -> 0
A7: =XLS!A7 -> 0 | B7: =XLS!B7 -> 0 | C7: =XLS!E7 -> 0 | D7: =XLS!F7 -> 0 | E7: =XLS!L7 -> 0 | F7: =VLOOKUP(E7,keuzes!$I$2:$K$112,2,FALSE) -> #N/A | G7: =VLOOKUP(E7,keuzes!$I$2:$K$112,3,FALSE) -> #N/A | H7: =VLOOKUP(E7,keuzes!$I$2:$L$112,4,FALSE) -> #N/A | I7: =VLOOKUP(E7,keuzes!$I$2:$M$112,5,FALSE) -> #N/A | J7: =XLS!S7 -> 0 | K7: =XLS!J7 -> 0 | L7: =XLS!K7 -> 0 | M7: =XLS!G7 -> 0 | N7: Stagiair(e) verpleegkundig | O7: Stagiair(e) verpleegkunde Bachelor | P7: UCLL | Q7: =XLS!C7 -> 0 | R7: =XLS!T7 -> 0 | S7: =XLS!U7 -> 0 | T7: =XLS!V7 -> 0 | U7: =XLS!W7 -> 0 | V7: =XLS!X7 -> 0 | W7: =XLS!Y7 -> 0 | X7: =XLS!H7 -> 0 | Y7: =XLS!Z7 -> 0 | Z7: =XLS!I7 -> 0 | AA7: =XLS!AA7 -> 0
A8: =XLS!A8 -> 0 | B8: =XLS!B8 -> 0 | C8: =XLS!E8 -> 0 | D8: =XLS!F8 -> 0 | E8: =XLS!L8 -> 0 | F8: =VLOOKUP(E8,keuzes!$I$2:$K$112,2,FALSE) -> #N/A | G8: =VLOOKUP(E8,keuzes!$I$2:$K$112,3,FALSE) -> #N/A | H8: =VLOOKUP(E8,keuzes!$I$2:$L$112,4,FALSE) -> #N/A | I8: =VLOOKUP(E8,keuzes!$I$2:$M$112,5,FALSE) -> #N/A | J8: =XLS!S8 -> 0 | K8: =XLS!J8 -> 0 | L8: =XLS!K8 -> 0 | M8: =XLS!G8 -> 0 | N8: Stagiair(e) verpleegkundig | O8: Stagiair(e) verpleegkunde Bachelor | P8: UCLL | Q8: =XLS!C8 -> 0 | R8: =XLS!T8 -> 0 | S8: =XLS!U8 -> 0 | T8: =XLS!V8 -> 0 | U8: =XLS!W8 -> 0 | V8: =XLS!X8 -> 0 | W8: =XLS!Y8 -> 0 | X8: =XLS!H8 -> 0 | Y8: =XLS!Z8 -> 0 | Z8: =XLS!I8 -> 0 | AA8: =XLS!AA8 -> 0
A9: =XLS!A9 -> 0 | B9: =XLS!B9 -> 0 | C9: =XLS!E9 -> 0 | D9: =XLS!F9 -> 0 | E9: =XLS!L9 -> 0 | F9: =VLOOKUP(E9,keuzes!$I$2:$K$112,2,FALSE) -> #N/A | G9: =VLOOKUP(E9,keuzes!$I$2:$K$112,3,FALSE) -> #N/A | H9: =VLOOKUP(E9,keuzes!$I$2:$L$112,4,FALSE) -> #N/A | I9: =VLOOKUP(E9,keuzes!$I$2:$M$112,5,FALSE) -> #N/A | J9: =XLS!S9 -> 0 | K9: =XLS!J9 -> 0 | L9: =XLS!K9 -> 0 | M9: =XLS!G9 -> 0 | N9: Stagiair(e) verpleegkundig | O9: Stagiair(e) verpleegkunde Bachelor | P9: UCLL | Q9: =XLS!C9 -> 0 | R9: =XLS!T9 -> 0 | S9: =XLS!U9 -> 0 | T9: =XLS!V9 -> 0 | U9: =XLS!W9 -> 0 | V9: =XLS!X9 -> 0 | W9: =XLS!Y9 -> 0 | X9: =XLS!H9 -> 0 | Y9: =XLS!Z9 -> 0 | Z9: =XLS!I9 -> 0 | AA9: =XLS!AA9 -> 0
A10: =XLS!A10 -> 0 | B10: =XLS!B10 -> 0 | C10: =XLS!E10 -> 0 | D10: =XLS!F10 -> 0 | E10: =XLS!L10 -> 0 | F10: =VLOOKUP(E10,keuzes!$I$2:$K$112,2,FALSE) -> #N/A | G10: =VLOOKUP(E10,keuzes!$I$2:$K$112,3,FALSE) -> #N/A | H10: =VLOOKUP(E10,keuzes!$I$2:$L$112,4,FALSE) -> #N/A | I10: =VLOOKUP(E10,keuzes!$I$2:$M$112,5,FALSE) -> #N/A | J10: =XLS!S10 -> 0 | K10: =XLS!J10 -> 0 | L10: =XLS!K10 -> 0 | M10: =XLS!G10 -> 0 | N10: Stagiair(e) verpleegkundig | O10: Stagiair(e) verpleegkunde Bachelor | P10: UCLL | Q10: =XLS!C10 -> 0 | R10: =XLS!T10 -> 0 | S10: =XLS!U10 -> 0 | T10: =XLS!V10 -> 0 | U10: =XLS!W10 -> 0 | V10: =XLS!X10 -> 0 | W10: =XLS!Y10 -> 0 | X10: =XLS!H10 -> 0 | Y10: =XLS!Z10 -> 0 | Z10: =XLS!I10 -> 0 | AA10: =XLS!AA10 -> 0
A11: =XLS!A11 -> 0 | B11: =XLS!B11 -> 0 | C11: =XLS!E11 -> 0 | D11: =XLS!F11 -> 0 | E11: =XLS!L11 -> 0 | F11: =VLOOKUP(E11,keuzes!$I$2:$K$112,2,FALSE) -> #N/A | G11: =VLOOKUP(E11,keuzes!$I$2:$K$112,3,FALSE) -> #N/A | H11: =VLOOKUP(E11,keuzes!$I$2:$L$112,4,FALSE) -> #N/A | I11: =VLOOKUP(E11,keuzes!$I$2:$M$112,5,FALSE) -> #N/A | J11: =XLS!S11 -> 0 | K11: =XLS!J11 -> 0 | L11: =XLS!K11 -> 0 | M11: =XLS!G11 -> 0 | N11: Stagiair(e) verpleegkundig | O11: Stagiair(e) verpleegkunde Bachelor | P11: UCLL | Q11: =XLS!C11 -> 0 | R11: =XLS!T11 -> 0 | S11: =XLS!U11 -> 0 | T11: =XLS!V11 -> 0 | U11: =XLS!W11 -> 0 | V11: =XLS!X11 -> 0 | W11: =XLS!Y11 -> 0 | X11: =XLS!H11 -> 0 | Y11: =XLS!Z11 -> 0 | Z11: =XLS!I11 -> 0 | AA11: =XLS!AA11 -> 0
A12: =XLS!A12 -> 0 | B12: =XLS!B12 -> 0 | C12: =XLS!E12 -> 0 | D12: =XLS!F12 -> 0 | E12: =XLS!L12 -> 0 | F12: =VLOOKUP(E12,keuzes!$I$2:$K$112,2,FALSE) -> #N/A | G12: =VLOOKUP(E12,keuzes!$I$2:$K$112,3,FALSE) -> #N/A | H12: =VLOOKUP(E12,keuzes!$I$2:$L$112,4,FALSE) -> #N/A | I12: =VLOOKUP(E12,keuzes!$I$2:$M$112,5,FALSE) -> #N/A | J12: =XLS!S12 -> 0 | K12: =XLS!J12 -> 0 | L12: =XLS!K12 -> 0 | M12: =XLS!G12 -> 0 | N12: Stagiair(e) verpleegkundig | O12: Stagiair(e) verpleegkunde Bachelor | P12: UCLL | Q12: =XLS!C12 -> 0 | R12: =XLS!T12 -> 0 | S12: =XLS!U12 -> 0 | T12: =XLS!V12 -> 0 | U12: =XLS!W12 -> 0 | V12: =XLS!X12 -> 0 | W12: =XLS!Y12 -> 0 | X12: =XLS!H12 -> 0 | Y12: =XLS!Z12 -> 0 | Z12: =XLS!I12 -> 0 | AA12: =XLS!AA12 -> 0
A13: =XLS!A13 -> 0 | B13: =XLS!B13 -> 0 | C13: =XLS!E13 -> 0 | D13: =XLS!F13 -> 0 | E13: =XLS!L13 -> 0 | F13: =VLOOKUP(E13,keuzes!$I$2:$K$112,2,FALSE) -> #N/A | G13: =VLOOKUP(E13,keuzes!$I$2:$K$112,3,FALSE) -> #N/A | H13: =VLOOKUP(E13,keuzes!$I$2:$L$112,4,FALSE) -> #N/A | I13: =VLOOKUP(E13,keuzes!$I$2:$M$112,5,FALSE) -> #N/A | J13: =XLS!S13 -> 0 | K13: =XLS!J13 -> 0 | L13: =XLS!K13 -> 0 | M13: =XLS!G13 -> 0 | N13: Stagiair(e) verpleegkundig | O13: Stagiair(e) verpleegkunde Bachelor | P13: UCLL | Q13: =XLS!C13 -> 0 | R13: =XLS!T13 -> 0 | S13: =XLS!U13 -> 0 | T13: =XLS!V13 -> 0 | U13: =XLS!W13 -> 0 | V13: =XLS!X13 -> 0 | W13: =XLS!Y13 -> 0 | X13: =XLS!H13 -> 0 | Y13: =XLS!Z13 -> 0 | Z13: =XLS!I13 -> 0 | AA13: =XLS!AA13 -> 0
... A200: =XLS!A200 -> 0 | B200: =XLS!B200 -> 0 | C200: =XLS!E200 -> 0 | D200: =XLS!F200 -> 0 | E200: =XLS!L200 -> 0 | F200: =VLOOKUP(E200,keuzes!$I$2:$K$112,2,FALSE) -> #N/A | G200: =VLOOKUP(E200,keuzes!$I$2:$K$112,3,FALSE) -> #N/A | H200: =VLOOKUP(E200,keuzes!$I$2:$L$112,4,FALSE) -> #N/A | I200: =VLOOKUP(E200,keuzes!$I$2:$M$112,5,FALSE) -> #N/A | J200: =XLS!S200 -> 0 | K200: =XLS!J200 -> 0 | L200: =XLS!K200 -> 0 | M200: =XLS!G200 -> 0 | N200: Stagiair(e) verpleegkundig | O200: Stagiair(e) verpleegkunde Bachelor | P200: UCLL | Q200: =XLS!C200 -> 0 | R200: =XLS!T200 -> 0 | S200: =XLS!U200 -> 0 | T200: =XLS!V200 -> 0 | U200: =XLS!W200 -> 0 | V200: =XLS!X200 -> 0 | W200: =XLS!Y200 -> 0 | X200: =XLS!H200 -> 0 | Y200: =XLS!Z200 -> 0 | Z200: =XLS!I200 -> 0 | AA200: =XLS!AA200 -> 0
