Workbook
Name Query: #REF!

Sheet xls voor scholen
A1: INSZcode | B1: niet-Belgcode | C1: Lastname | D1: Firstname | E1: Dcode | F1: Dienst omschrijving | G1: Departement | H1: Stageverantw account | I1: Stageverantw email | J1: Birth | K1: Employ | L1: Out | M1: E-mail | N1: Soort stage | O1: Funcname1 | P1: School | Q1: Leerjaar | R1: Geboorteplaats | S1: Adres | T1: Nr | U1: Busnr | V1: Postcode | W1: Gemeente | X1: GSM privé | Y1: aantal te presteren uren/dag | Z1: naam begeleider | AA1: opmerkingen
F2: =VLOOKUP(E2,keuzes!$I$2:$K$298,2,FALSE) -> #N/A | G2: =VLOOKUP(E2,keuzes!$I$2:$K$298,3,FALSE) -> #N/A | H2: =VLOOKUP(E2,keuzes!$I$2:$L$298,4,FALSE) -> #N/A | I2: =VLOOKUP(E2,keuzes!$I$2:$M$298,5,FALSE) -> #N/A | N2: Stagiair(e) verpleegkundig | O2: Stagiair(e) verpleegkunde HBO | P2: PIVH
F3: =VLOOKUP(E3,keuzes!$I$2:$K$298,2,FALSE) -> #N/A | G3: =VLOOKUP(E3,keuzes!$I$2:$K$298,3,FALSE) -> #N/A | H3: =VLOOKUP(E3,keuzes!$I$2:$L$298,4,FALSE) -> #N/A | I3: =VLOOKUP(E3,keuzes!$I$2:$M$298,5,FALSE) -> #N/A | N3: Stagiair(e) verpleegkundig | O3: Stagiair(e) verpleegkunde HBO | P3: PIVH
F4: =VLOOKUP(E4,keuzes!$I$2:$K$298,2,FALSE) -> #N/A | G4: =VLOOKUP(E4,keuzes!$I$2:$K$298,3,FALSE) -> #N/A | H4: =VLOOKUP(E4,keuzes!$I$2:$L$298,4,FALSE) -> #N/A | I4: =VLOOKUP(E4,keuzes!$I$2:$M$298,5,FALSE) -> #N/A | N4: Stagiair(e) verpleegkundig | O4: Stagiair(e) verpleegkunde HBO | P4: PIVH
F5: =VLOOKUP(E5,keuzes!$I$2:$K$298,2,FALSE) -> #N/A | G5: =VLOOKUP(E5,keuzes!$I$2:$K$298,3,FALSE) -> #N/A | H5: =VLOOKUP(E5,keuzes!$I$2:$L$298,4,FALSE) -> #N/A | I5: =VLOOKUP(E5,keuzes!$I$2:$M$298,5,FALSE) -> #N/A | N5: Stagiair(e) verpleegkundig | O5: Stagiair(e) verpleegkunde HBO | P5: PIVH
F6: =VLOOKUP(E6,keuzes!$I$2:$K$298,2,FALSE) -> #N/A | G6: =VLOOKUP(E6,keuzes!$I$2:$K$298,3,FALSE) -> #N/A | H6: =VLOOKUP(E6,keuzes!$I$2:$L$298,4,FALSE) -> #N/A | I6: =VLOOKUP(E6,keuzes!$I$2:$M$298,5,FALSE) -> #N/A | N6: Stagiair(e) verpleegkundig | O6: Stagiair(e) verpleegkunde HBO | P6: PIVH
F7: =VLOOKUP(E7,keuzes!$I$2:$K$298,2,FALSE) -> #N/A | G7: =VLOOKUP(E7,keuzes!$I$2:$K$298,3,FALSE) -> #N/A | H7: =VLOOKUP(E7,keuzes!$I$2:$L$298,4,FALSE) -> #N/A | I7: =VLOOKUP(E7,keuzes!$I$2:$M$298,5,FALSE) -> #N/A | N7: Stagiair(e) verpleegkundig | O7: Stagiair(e) verpleegkunde HBO | P7: PIVH
F8: =VLOOKUP(E8,keuzes!$I$2:$K$298,2,FALSE) -> #N/A | G8: =VLOOKUP(E8,keuzes!$I$2:$K$298,3,FALSE) -> #N/A | H8: =VLOOKUP(E8,keuzes!$I$2:$L$298,4,FALSE) -> #N/A | I8: =VLOOKUP(E8,keuzes!$I$2:$M$298,5,FALSE) -> #N/A | N8: Stagiair(e) verpleegkundig | O8: Stagiair(e) verpleegkunde HBO | P8: PIVH
F9: =VLOOKUP(E9,keuzes!$I$2:$K$298,2,FALSE) -> #N/A | G9: =VLOOKUP(E9,keuzes!$I$2:$K$298,3,FALSE) -> #N/A | H9: =VLOOKUP(E9,keuzes!$I$2:$L$298,4,FALSE) -> #N/A | I9: =VLOOKUP(E9,keuzes!$I$2:$M$298,5,FALSE) -> #N/A | N9: Stagiair(e) verpleegkundig | O9: Stagiair(e) verpleegkunde HBO | P9: PIVH
F10: =VLOOKUP(E10,keuzes!$I$2:$K$298,2,FALSE) -> #N/A | G10: =VLOOKUP(E10,keuzes!$I$2:$K$298,3,FALSE) -> #N/A | H10: =VLOOKUP(E10,keuzes!$I$2:$L$298,4,FALSE) -> #N/A | I10: =VLOOKUP(E10,keuzes!$I$2:$M$298,5,FALSE) -> #N/A | N10: Stagiair(e) verpleegkundig | O10: Stagiair(e) verpleegkunde HBO | P10: PIVH
F11: =VLOOKUP(E11,keuzes!$I$2:$K$298,2,FALSE) -> #N/A | G11: =VLOOKUP(E11,keuzes!$I$2:$K$298,3,FALSE) -> #N/A | H11: =VLOOKUP(E11,keuzes!$I$2:$L$298,4,FALSE) -> #N/A | I11: =VLOOKUP(E11,keuzes!$I$2:$M$298,5,FALSE) -> #N/A | N11: Stagiair(e) verpleegkundig | O11: Stagiair(e) verpleegkunde HBO | P11: PIVH
F12: =VLOOKUP(E12,keuzes!$I$2:$K$298,2,FALSE) -> #N/A | G12: =VLOOKUP(E12,keuzes!$I$2:$K$298,3,FALSE) -> #N/A | H12: =VLOOKUP(E12,keuzes!$I$2:$L$298,4,FALSE) -> #N/A | I12: =VLOOKUP(E12,keuzes!$I$2:$M$298,5,FALSE) -> #N/A | N12: Stagiair(e) verpleegkundig | O12: Stagiair(e) verpleegkunde HBO | P12: PIVH
F13: =VLOOKUP(E13,keuzes!$I$2:$K$298,2,FALSE) -> #N/A | G13: =VLOOKUP(E13,keuzes!$I$2:$K$298,3,FALSE) -> #N/A | H13: =VLOOKUP(E13,keuzes!$I$2:$L$298,4,FALSE) -> #N/A | I13: =VLOOKUP(E13,keuzes!$I$2:$M$298,5,FALSE) -> #N/A | N13: Stagiair(e) verpleegkundig | O13: Stagiair(e) verpleegkunde HBO | P13: PIVH
... F100: =VLOOKUP(E100,keuzes!$I$2:$K$298,2,FALSE) -> #N/A | G100: =VLOOKUP(E100,keuzes!$I$2:$K$298,3,FALSE) -> #N/A | H100: =VLOOKUP(E100,keuzes!$I$2:$L$298,4,FALSE) -> #N/A | I100: =VLOOKUP(E100,keuzes!$I$2:$M$298,5,FALSE) -> #N/A | N100: Stagiair(e) verpleegkundig | O100: Stagiair(e) verpleegkunde HBO | P100: PIVH
F101: =VLOOKUP(E101,keuzes!$I$2:$K$298,2,FALSE) -> #N/A | G101: =VLOOKUP(E101,keuzes!$I$2:$K$298,3,FALSE) -> #N/A | H101: =VLOOKUP(E101,keuzes!$I$2:$L$298,4,FALSE) -> #N/A | I101: =VLOOKUP(E101,keuzes!$I$2:$M$298,5,FALSE) -> #N/A
F102: =VLOOKUP(E102,keuzes!$I$2:$K$298,2,FALSE) -> #N/A | G102: =VLOOKUP(E102,keuzes!$I$2:$K$298,3,FALSE) -> #N/A | H102: =VLOOKUP(E102,keuzes!$I$2:$L$298,4,FALSE) -> #N/A | I102: =VLOOKUP(E102,keuzes!$I$2:$M$298,5,FALSE) -> #N/A
F103: =VLOOKUP(E103,keuzes!$I$2:$K$298,2,FALSE) -> #N/A | G103: =VLOOKUP(E103,keuzes!$I$2:$K$298,3,FALSE) -> #N/A | H103: =VLOOKUP(E103,keuzes!$I$2:$L$298,4,FALSE) -> #N/A | I103: =VLOOKUP(E103,keuzes!$I$2:$M$298,5,FALSE) -> #N/A
F104: =VLOOKUP(E104,keuzes!$I$2:$K$298,2,FALSE) -> #N/A | G104: =VLOOKUP(E104,keuzes!$I$2:$K$298,3,FALSE) -> #N/A | H104: =VLOOKUP(E104,keuzes!$I$2:$L$298,4,FALSE) -> #N/A | I104: =VLOOKUP(E104,keuzes!$I$2:$M$298,5,FALSE) -> #N/A
F105: =VLOOKUP(E105,keuzes!$I$2:$K$298,2,FALSE) -> #N/A | G105: =VLOOKUP(E105,keuzes!$I$2:$K$298,3,FALSE) -> #N/A | H105: =VLOOKUP(E105,keuzes!$I$2:$L$298,4,FALSE) -> #N/A | I105: =VLOOKUP(E105,keuzes!$I$2:$M$298,5,FALSE) -> #N/A
F106: =VLOOKUP(E106,keuzes!$I$2:$K$298,2,FALSE) -> #N/A | G106: =VLOOKUP(E106,keuzes!$I$2:$K$298,3,FALSE) -> #N/A | H106: =VLOOKUP(E106,keuzes!$I$2:$L$298,4,FALSE) -> #N/A | I106: =VLOOKUP(E106,keuzes!$I$2:$M$298,5,FALSE) -> #N/A
F107: =VLOOKUP(E107,keuzes!$I$2:$K$298,2,FALSE) -> #N/A | G107: =VLOOKUP(E107,keuzes!$I$2:$K$298,3,FALSE) -> #N/A | H107: =VLOOKUP(E107,keuzes!$I$2:$L$298,4,FALSE) -> #N/A | I107: =VLOOKUP(E107,keuzes!$I$2:$M$298,5,FALSE) -> #N/A
F108: =VLOOKUP(E108,keuzes!$I$2:$K$298,2,FALSE) -> #N/A | G108: =VLOOKUP(E108,keuzes!$I$2:$K$298,3,FALSE) -> #N/A | H108: =VLOOKUP(E108,keuzes!$I$2:$L$298,4,FALSE) -> #N/A | I108: =VLOOKUP(E108,keuzes!$I$2:$M$298,5,FALSE) -> #N/A
F109: =VLOOKUP(E109,keuzes!$I$2:$K$298,2,FALSE) -> #N/A | G109: =VLOOKUP(E109,keuzes!$I$2:$K$298,3,FALSE) -> #N/A | H109: =VLOOKUP(E109,keuzes!$I$2:$L$298,4,FALSE) -> #N/A | I109: =VLOOKUP(E109,keuzes!$I$2:$M$298,5,FALSE) -> #N/A
F110: =VLOOKUP(E110,keuzes!$I$2:$K$298,2,FALSE) -> #N/A | G110: =VLOOKUP(E110,keuzes!$I$2:$K$298,3,FALSE) -> #N/A | H110: =VLOOKUP(E110,keuzes!$I$2:$L$298,4,FALSE) -> #N/A | I110: =VLOOKUP(E110,keuzes!$I$2:$M$298,5,FALSE) -> #N/A
F111: =VLOOKUP(E111,keuzes!$I$2:$K$298,2,FALSE) -> #N/A | G111: =VLOOKUP(E111,keuzes!$I$2:$K$298,3,FALSE) -> #N/A | H111: =VLOOKUP(E111,keuzes!$I$2:$L$298,4,FALSE) -> #N/A | I111: =VLOOKUP(E111,keuzes!$I$2:$M$298,5,FALSE) -> #N/A
F112: =VLOOKUP(E112,keuzes!$I$2:$K$298,2,FALSE) -> #N/A | G112: =VLOOKUP(E112,keuzes!$I$2:$K$298,3,FALSE) -> #N/A | H112: =VLOOKUP(E112,keuzes!$I$2:$L$298,4,FALSE) -> #N/A | I112: =VLOOKUP(E112,keuzes!$I$2:$M$298,5,FALSE) -> #N/A
... F200: =VLOOKUP(E200,keuzes!$I$2:$K$298,2,FALSE) -> #N/A | G200: =VLOOKUP(E200,keuzes!$I$2:$K$298,3,FALSE) -> #N/A | H200: =VLOOKUP(E200,keuzes!$I$2:$L$298,4,FALSE) -> #N/A | I200: =VLOOKUP(E200,keuzes!$I$2:$M$298,5,FALSE) -> #N/A

Sheet keuzes
A1: Soort stage | B1: Functienaam | C1: School | D1: Leerjaar | I1: Dienstcode | J1: Dienstomschrijving | K1: Departement | L1: Stageverantw account | M1: Stageverantw email
A2: Stagiair(e) verpleegkundig | B2: Stagiair(e) verpleegkunde Bachelor | C2: Artevelde Hogeschool | D2: 1ste MOD | I2: GA30 | J2: GA30 | K2: 3 | L2: anita.vanbaelen | M2: anita.vanbaelen@zol.be
A3: Stagiair(e) vroedkunde | B3: Stagiair(e) verpleegkunde HBO | C3: Atlas College | D3: 2de MOD | I3: GA35 | J3: GA35 | K3: 3 | L3: angelique.erlich | M3: angelique.erlich@zol.be
A4: Stagiair(e) andere zorg | B4: Stagiair(e) verpleegkunde Master | C4: Belgisch leger | D4: 3de MOD | I4: GB20 | J4: GB20 | K4: 4 | L4: mieke.vlassak | M4: mieke.vlassak@zol.be
A5: Stagiair(e) paramedicus | B5: Stagiair(e) Banaba zorg | C5: Cursa / CTT Genk | D5: 4de MOD | I5: GB25 | J5: GB25 | K5: 4 | L5: sanne.buvens | M5: sanne.buvens@zol.be
A6: Kijkstage zorg | B6: Stagiair(e) Post-graduaat zorg | C6: Don Bosco | D6: 5de MOD | I6: GB30 | J6: GB30 | K6: 4 | L6: joris.clerix | M6: joris.clerix@zol.be
A7: Stage arts in opleiding | B7: Stagiair(e) verpleegkunde ziekenhuishygiëne | C7: Fontys Hogeschool | D7: 1ste OF | I7: GB35 | J7: GB35 | K7: 4 | L7: patrick.dobbels | M7: patrick.dobbels@zol.be
A8: Stage specialist-arts in opleiding | B8: Stagiair(e) vroedkunde | C8: HAST | D8: 2de OF | I8: GC20 | J8: GC20 | K8: 2 | L8: nicole.engelen | M8: nicole.engelen@zol.be
A9: Stage arts-specialist in verdere opleiding | B9: Stagiair(e) verpleegstage geneeskunde | C9: HBO Verpleegkunde Genk | D9: 3de OF | I9: GC25 | J9: GC25 | K9: 2 | L9: katrien.bijnens | M9: katrien.bijnens@zol.be
A10: Stage huistarts in opleiding | B10: Stagiair(e) kinesitherapie | C10: HIGW | D10: 4de OF | I10: GCL | J10: Hartcatheterisatie | K10: 2 | L10: hildegard.stremersch | M10: hildegard.stremersch@zol.be
A11: Stagiair(e) niet zorg | B11: Stagiair(e) ergotherapie | C11: HO Gent | D11: IT-traject | I11: GCRE | J11: GCRE - CARDIALE REVALIDATIE | K11: VPD | L11: bart.tulleneers | M11: bart.tulleneers@zol.be
B12: Stagiair(e) logotherapie | C12: IFPC | D12: Divisie 6de middelbaar | I12: GCT | J12: GCT - SCANNER | K12: 7 | L12: freddy.boonen | M12: freddy.boonen@zol.be
B13: Stagiair(e) psychologie | C13: In-Z | D13: 1ste jaar | I13: GD15 | J13: GD15 | K13: 2 | L13: hildegard.stremersch | M13: hildegard.stremersch@zol.be
B14: Stagiair(e) audiologie | C14: Karel de Grote Hogeschool | D14: 2de jaar | I14: GD20 | J14: GD20 | K14: 2 | L14: yamina.kherouach | M14: yamina.kherouach@zol.be
B15: Stagiair(e) diëtiek | C15: KUL | D15: 3de jaar | I15: GD25 | J15: GD25 | K15: 2 | L15: eline.moors | M15: eline.moors@zol.be
B16: Stagiair(e) medisch laboratoriumtechnologie | C16: Mosa-RT | D16: 4de jaar | I16: GDAE | J16: GDAE - DAGZIEKENHUIS ENDOSCOPIE | K16: 3 | L16: hagar.tanane | M16: hagar.tanane@zol.be
B17: Stagiair(e) mondhygiënist | C17: Odisee | D17: 1ste master | I17: GDEG | J17: GDEG - DAGKLINIEK ENDOCRINOLOGIE EN GERIATRIE | K17: 5 | L17: hellen.goossens | M17: hellen.goossens@zol.be
B18: Stagiair(e) technoloog medische beeldvorming | C18: OLV Lyceum | D18: 2de master | I18: GDGS | J18: GDGS - SLAAPLABO VERBLIJF | K18: 2 | L18: sonja.vranken | M18: Sonja.Vranken@zol.be
B19: Stagiair(e) zorg tandheelkunde | C19: PIVH | D19: 3de master | I19: GDGY | J19: GDGY - DAGZIEKENHUIS GYNAECOLOGIE | K19: 1 | L19: ruth.fincken | M19: ruth.fincken@zol.be
B20: Stagiair(e) zorg tandartsassistent | C20: PLOT | D20: post graduaat | I20: GDH1 | J20: GDH1 - DAGZIEKENHUIS HEELKUNDE 1 | K20: 6 | L20: lesley.surinx | M20: lesley.surinx@zol.be
B21: Stagiair(e) zorg logistiek assistent | C21: PXL | D21: VPK na VK 1ste OF | I21: GDIC | J21: GDIC - DAGZIEKENHUIS INTERVENTIECENTRUM | K21: 2 | L21: hildegard.stremersch | M21: hildegard.stremersch@zol.be
B22: Stagiair(e) pastorale dienst | C22: Qrios | D22: VPK na VK 2de OF | I22: GDIE | J22: GDIE - DIETISTEN | K22: VPD | L22: diane.buekers | M22: Diane.Buekers@zol.be
B23: Stagiair(e) ambulancier | C23: Sint Augustinus | D23: brugopleiding 1 | I23: GDK1 | J23: GDK1 - DAGZIEKENHUIS ONCOLOGIE | K23: 3 | L23: Heidi.Oris | M23: Heidi.Oris@zol.be
... B26: Stagiair(e) PMT | C26: U Hasselt | D26: kijkstage | I26: GEEG | J26: GEEG - EEG (NEURO-FYSIOLOGISCHE ONDERZOEKEN) | K26: 4 | L26: sanne.buvens | M26: sanne.buvens@zol.be
B27: Stagiair(e) schoonheidsspecialiste / haartooi (IFPC) | C27: VIVES | I27: GEHF | J27: GEHF - ECHO HARTFALEN | K27: 2 | L27: joke.grosemans | M27: Joke.grosemans@zol.be
B28: Stage arts in opleiding (Stagiair(e)) | I28: GEHFK | J28: GEHFK - ECHO HARTFALEN - K-BLOK | K28: 2 | L28: joke.grosemans | M28: Joke.grosemans@zol.be
B29: Stage arts-specialist in verdere opleiding (ASVO) | I29: GEND | J29: GEND - ENDOSCOPIE | K29: 3 | L29: hagar.tanane | M29: hagar.tanane@zol.be
B30: Stage huisarts in opleiding (HAIO) | I30: GERE | J30: GERE - Pastorale zorg en Zingeving (EREDIENST) | K30: VPD | L30: stephanie.schreurs | M30: Stephanie.Schreurs@zol.be
I31: GERG | J31: GERG - ERGOTHERAPIE | K31: VPD | L31: dirk.bieghs | M31: dirk.bieghs@zol.be
I32: GESM | J32: GESM - ERGOSPIROMETRIE | K32: 2 | L32: sonja.vranken | M32: Sonja.Vranken@zol.be
I33: GEVE | J33: GEVE - ECHO GYNAECOLOGIE | K33: 1 | L33: ruth.fincken | M33: ruth.fincken@zol.be
I34: GFED | J34: GFED - GENK FERTILITEIT DAGZIEKENHUIS | K34: 1 | L34: ruth.fincken | M34: ruth.fincken@zol.be
I35: GFEL | J35: GFEL - GENK FERTILITEIT LABO | K35: 1 | L35: ruth.fincken | M35: ruth.fincken@zol.be
I36: GFH | J36: GFH - FUTURE HEALTH | K36: MD | L36: julie.vranken | M36: julie.vranken@zol.be
I37: GFYS | J37: GFYS - FYSIO | K37: VPD | L37: Jan.Van.Hoecke | M37: Jan.VanHoecke@zol.be
I38: GGEP | J38: GGEP - PARAMEDICI GERIATRIE | K38: VPD | L38: Anneleen.Reyskens | M38: Anneleen.reyskens@zol.be
I39: GGER | J39: GGER - GERIATRIE REVALIDATIE | K39: VPD | L39: Anneleen.Reyskens | M39: Anneleen.reyskens@zol.be
I40: GGIP | J40: GGIP - GIPSKAMER (RPL) | K40: 4 | L40: Karolien.Hetzheim | M40: Karolien.Hetzheim@zol.be
I41: GGYE | J41: GGYE - GYNAECOLOGIE EXTERN | K41: 1 | L41: ruth.fincken | M41: ruth.fincken@zol.be
I42: GHB | J42: GHB - HARTBEWAKING LOKAAL 1 | K42: 2 | L42: jorien.stassen | M42: jorien.stassen@zol.be
...
